BEGIN:VCALENDAR
VERSION:2.0
PRODID:-//Open Ticket Vault - ECPv6.15.20//NONSGML v1.0//EN
CALSCALE:GREGORIAN
METHOD:PUBLISH
X-WR-CALNAME:Open Ticket Vault
X-ORIGINAL-URL:https://tickets.usmwdepartment.eu
X-WR-CALDESC:Events for Open Ticket Vault
REFRESH-INTERVAL;VALUE=DURATION:PT1H
X-Robots-Tag:noindex
X-PUBLISHED-TTL:PT1H
BEGIN:VTIMEZONE
TZID:UTC
BEGIN:STANDARD
TZOFFSETFROM:+0000
TZOFFSETTO:+0000
TZNAME:UTC
DTSTART:20250101T000000
END:STANDARD
END:VTIMEZONE
BEGIN:VEVENT
DTSTART;TZID=UTC:20260525T130000
DTEND;TZID=UTC:20260525T170000
DTSTAMP:20260425T211611
CREATED:20260425T114351Z
LAST-MODIFIED:20260425T140114Z
UID:19-1779714000-1779728400@tickets.usmwdepartment.eu
SUMMARY:FIFA CUP
DESCRIPTION:When you buy tickets online\, the process is simple and secure. After selecting your event and completing payment\, the system automatically generates a digital ticket with a unique ticket number. This confirmation is sent directly to your email\, giving you proof of purchase and easy access to your ticket. You can then present the email or ticket number at the venue for entry
URL:https://tickets.usmwdepartment.eu/event/tech-together-community-led-technology-workshop/
LOCATION:USA Stadium\, 34 St Kennedy Blvd RD\, Jersey City\, NJ\, 07304\, United States
CATEGORIES:Community,Festival
ATTACH;FMTTYPE=image/png:https://tickets.usmwdepartment.eu/wp-content/uploads/2026/04/Screenshot-2026-04-25-145557.png
END:VEVENT
END:VCALENDAR