BEGIN:VCALENDAR
VERSION:2.0
PRODID:-//Open Ticket Vault - ECPv6.15.20//NONSGML v1.0//EN
CALSCALE:GREGORIAN
METHOD:PUBLISH
X-WR-CALNAME:Open Ticket Vault
X-ORIGINAL-URL:https://tickets.usmwdepartment.eu
X-WR-CALDESC:Events for Open Ticket Vault
REFRESH-INTERVAL;VALUE=DURATION:PT1H
X-Robots-Tag:noindex
X-PUBLISHED-TTL:PT1H
BEGIN:VTIMEZONE
TZID:UTC
BEGIN:STANDARD
TZOFFSETFROM:+0000
TZOFFSETTO:+0000
TZNAME:UTC
DTSTART:20250101T000000
END:STANDARD
END:VTIMEZONE
BEGIN:VEVENT
DTSTART;TZID=UTC:20260625T130000
DTEND;TZID=UTC:20260625T170000
DTSTAMP:20260425T222712
CREATED:20260425T114351Z
LAST-MODIFIED:20260425T114351Z
UID:21-1782392400-1782406800@tickets.usmwdepartment.eu
SUMMARY:Green Thumb Gathering: Community Gardening Day
DESCRIPTION:Dive into the world of gardening with our Green Thumb Gathering! Whether you’re a seasoned gardener or just getting started\, this community event invites you to learn\, share\, and grow. Participate in workshops on sustainable gardening practices\, plant swaps\, and a community garden project that aims to beautify our neighborhood. It’s a great opportunity to connect with fellow gardening enthusiasts and contribute to a greener\, more sustainable community.
URL:https://tickets.usmwdepartment.eu/event/green-thumb-gathering-community-gardening-day/
LOCATION:Harmony Park\, 112 Main St\, Missoula\, Montana\, United States
CATEGORIES:Community
ATTACH;FMTTYPE=image/jpeg:https://tickets.usmwdepartment.eu/wp-content/uploads/2026/04/moody-image-of-a-person-holding-cinema.jpeg
ORGANIZER;CN="Community Outreach":MAILTO:info@communityoutreach.org
END:VEVENT
END:VCALENDAR